BEGIN:VCALENDAR
VERSION:2.0
PRODID:-//Eltham Rugby - ECPv6.15.20//NONSGML v1.0//EN
CALSCALE:GREGORIAN
METHOD:PUBLISH
X-WR-CALNAME:Eltham Rugby
X-ORIGINAL-URL:https://eltham.rugby
X-WR-CALDESC:Events for Eltham Rugby
REFRESH-INTERVAL;VALUE=DURATION:PT1H
X-Robots-Tag:noindex
X-PUBLISHED-TTL:PT1H
BEGIN:VTIMEZONE
TZID:Australia/Melbourne
BEGIN:STANDARD
TZOFFSETFROM:+1100
TZOFFSETTO:+1000
TZNAME:AEST
DTSTART:20230401T160000
END:STANDARD
BEGIN:DAYLIGHT
TZOFFSETFROM:+1000
TZOFFSETTO:+1100
TZNAME:AEDT
DTSTART:20230930T160000
END:DAYLIGHT
BEGIN:STANDARD
TZOFFSETFROM:+1100
TZOFFSETTO:+1000
TZNAME:AEST
DTSTART:20240406T160000
END:STANDARD
BEGIN:DAYLIGHT
TZOFFSETFROM:+1000
TZOFFSETTO:+1100
TZNAME:AEDT
DTSTART:20241005T160000
END:DAYLIGHT
BEGIN:STANDARD
TZOFFSETFROM:+1100
TZOFFSETTO:+1000
TZNAME:AEST
DTSTART:20250405T160000
END:STANDARD
BEGIN:DAYLIGHT
TZOFFSETFROM:+1000
TZOFFSETTO:+1100
TZNAME:AEDT
DTSTART:20251004T160000
END:DAYLIGHT
END:VTIMEZONE
BEGIN:VEVENT
DTSTART;TZID=Australia/Melbourne:20241124T140000
DTEND;TZID=Australia/Melbourne:20241124T173000
DTSTAMP:20260420T092718
CREATED:20241025T024043Z
LAST-MODIFIED:20241031T030745Z
UID:4079-1732456800-1732469400@eltham.rugby
SUMMARY:End of Year Celebration and AGM
DESCRIPTION:Sun 24th November- End of Year Celebration and AGM.\n2pm – kids activities\n3pm – AGM\n4/4.30pm – Free BBQ \n\nWe depend on our volunteers to give their time to work together to help run our club effectively\, be it by coaching\, team management\, washing jumpers\, manning the BBQ and so on. A critical part played by volunteers is being on the club’s Committee\, either as a general Committee member or in a specific role e.g. Secretary.\n\n\nWe really need new Committee members to help us build for a bigger and more successful rugby season in 2025.
URL:https://eltham.rugby/event/end-of-year-celebration-and-agm/
LOCATION:Eltham Rugby\, 58 Bridge St\, Eltham\, VIC\, 3095\, Australia
ATTACH;FMTTYPE=image/png:https://cdn.eltham.rugby/eru-content/uploads/2024/10/25134027/Untitled-3.png
ORGANIZER;CN="Sylvia Metcalfe":MAILTO:treasurer@eltham.rugby
END:VEVENT
END:VCALENDAR