BEGIN:VCALENDAR
VERSION:2.0
PRODID:-//Eltham Rugby - ECPv6.15.20//NONSGML v1.0//EN
CALSCALE:GREGORIAN
METHOD:PUBLISH
X-ORIGINAL-URL:https://eltham.rugby
X-WR-CALDESC:Events for Eltham Rugby
REFRESH-INTERVAL;VALUE=DURATION:PT1H
X-Robots-Tag:noindex
X-PUBLISHED-TTL:PT1H
BEGIN:VTIMEZONE
TZID:Australia/Melbourne
BEGIN:STANDARD
TZOFFSETFROM:+1100
TZOFFSETTO:+1000
TZNAME:AEST
DTSTART:20230401T160000
END:STANDARD
BEGIN:DAYLIGHT
TZOFFSETFROM:+1000
TZOFFSETTO:+1100
TZNAME:AEDT
DTSTART:20230930T160000
END:DAYLIGHT
BEGIN:STANDARD
TZOFFSETFROM:+1100
TZOFFSETTO:+1000
TZNAME:AEST
DTSTART:20240406T160000
END:STANDARD
BEGIN:DAYLIGHT
TZOFFSETFROM:+1000
TZOFFSETTO:+1100
TZNAME:AEDT
DTSTART:20241005T160000
END:DAYLIGHT
BEGIN:STANDARD
TZOFFSETFROM:+1100
TZOFFSETTO:+1000
TZNAME:AEST
DTSTART:20250405T160000
END:STANDARD
BEGIN:DAYLIGHT
TZOFFSETFROM:+1000
TZOFFSETTO:+1100
TZNAME:AEDT
DTSTART:20251004T160000
END:DAYLIGHT
END:VTIMEZONE
BEGIN:VEVENT
DTSTART;TZID=Australia/Melbourne:20241130T080000
DTEND;TZID=Australia/Melbourne:20241215T170000
DTSTAMP:20260419T094031
CREATED:20241025T015125Z
LAST-MODIFIED:20241025T015125Z
UID:4077-1732953600-1734282000@eltham.rugby
SUMMARY:ANNUAL CHRISTMAS TREE FUNDRAISER
DESCRIPTION:PRELIMINARY DATES FOR VOLUNTEERS \nEltham Rugby relies on the income from its Annual Christmas Tree Fundraiser. This has become over a couple of decades a well-known and appreciated service to the local community. For 3 weekends each Friday\, club members collect trees freshly cut in country Victoria. Trees are typically unloaded early on the following Saturday morning and sold through the rest of the weekend. Volunteers sell and deliver the trees. \nSales volunteers are needed from early Saturday\, and Sunday for self-chosen hours until all trees are sold that weekend. \nDelivery volunteers are needed for self-nominated hours with suitable delivery vehicles from late morning through to early evening Saturday and Sunday. \nThis may sound like a daunting request so close to Christmas\, but it is very sociable activity\, that helps others enjoy their Christmas. Volunteering also provides a wonderful opportunity to get to know people that really care about our small community club. \nAs always festive food donations are greatly appreciated by hard-working club volunteers (and tree customers!)
URL:https://eltham.rugby/event/annual-christmas-tree-fundraiser/
LOCATION:Eltham Rugby\, 58 Bridge St\, Eltham\, VIC\, 3095\, Australia
ATTACH;FMTTYPE=image/png:https://cdn.eltham.rugby/eru-content/uploads/2024/10/25114242/fwfwfwfw.png
ORGANIZER;CN="Sylvia Metcalfe":MAILTO:treasurer@eltham.rugby
END:VEVENT
END:VCALENDAR